BEGIN:VCALENDAR
VERSION:2.0
PRODID:-// eRoom plugin //NONSGML v1.0//EN
CALSCALE:GREGORIAN
BEGIN:VEVENT
UID:eRoom-1776763820
SUMMARY:video 6
LOCATION:Zoom
DESCRIPTION:Let's see what happens here!\n\n---\n\nvideo 6 is inviting you 
 to a scheduled Zoom meeting.\n\nJoin Zoom Meeting\nhttps://us06web.zoom.us
 /j/83421474951?pwd=WE9ZL3hHb0xoYWU0bFJlS0gwdHg3dz09\n\nMeeting ID: 8342147
 4951\n
URL;VALUE=URI:https://us06web.zoom.us/j/83421474951?pwd=WE9ZL3hHb0xoYWU0bFJlS0gwdHg3dz09
DTSTART:20230203T210000Z
DTEND:20230203T210100Z
DTSTAMP:20260421T093020Z
BEGIN:VALARM
ACTION:DISPLAY
DESCRIPTION:Reminder
TRIGGER;RELATED=START:-PT15M
END:VALARM
END:VEVENT
END:VCALENDAR